BEGIN:VCALENDAR
VERSION:2.0
PRODID:-//North Shore Sporting Car Club - ECPv6.0.13.1//NONSGML v1.0//EN
CALSCALE:GREGORIAN
METHOD:PUBLISH
X-WR-CALNAME:North Shore Sporting Car Club
X-ORIGINAL-URL:https://nsscc.com.au
X-WR-CALDESC:Events for North Shore Sporting Car Club
REFRESH-INTERVAL;VALUE=DURATION:PT1H
X-Robots-Tag:noindex
X-PUBLISHED-TTL:PT1H
BEGIN:VTIMEZONE
TZID:Australia/Sydney
BEGIN:STANDARD
TZOFFSETFROM:+1100
TZOFFSETTO:+1000
TZNAME:AEST
DTSTART:20190406T160000
END:STANDARD
BEGIN:DAYLIGHT
TZOFFSETFROM:+1000
TZOFFSETTO:+1100
TZNAME:AEDT
DTSTART:20191005T160000
END:DAYLIGHT
BEGIN:STANDARD
TZOFFSETFROM:+1100
TZOFFSETTO:+1000
TZNAME:AEST
DTSTART:20200404T160000
END:STANDARD
BEGIN:DAYLIGHT
TZOFFSETFROM:+1000
TZOFFSETTO:+1100
TZNAME:AEDT
DTSTART:20201003T160000
END:DAYLIGHT
BEGIN:STANDARD
TZOFFSETFROM:+1100
TZOFFSETTO:+1000
TZNAME:AEST
DTSTART:20210403T160000
END:STANDARD
BEGIN:DAYLIGHT
TZOFFSETFROM:+1000
TZOFFSETTO:+1100
TZNAME:AEDT
DTSTART:20211002T160000
END:DAYLIGHT
BEGIN:STANDARD
TZOFFSETFROM:+1100
TZOFFSETTO:+1000
TZNAME:AEST
DTSTART:20220402T160000
END:STANDARD
BEGIN:DAYLIGHT
TZOFFSETFROM:+1000
TZOFFSETTO:+1100
TZNAME:AEDT
DTSTART:20221001T160000
END:DAYLIGHT
END:VTIMEZONE
BEGIN:VEVENT
DTSTART;TZID=Australia/Sydney:20221212T190000
DTEND;TZID=Australia/Sydney:20221212T230000
DTSTAMP:20260421T190324
CREATED:20221207T092605Z
LAST-MODIFIED:20221207T092605Z
UID:19532-1670871600-1670886000@nsscc.com.au
SUMMARY:Annual General Meeting
DESCRIPTION:
URL:https://nsscc.com.au/event/annual-general-meeting/
LOCATION:Roseville Club
CATEGORIES:Annual General Meeting
END:VEVENT
BEGIN:VEVENT
DTSTART;TZID=Australia/Sydney:20191113T190000
DTEND;TZID=Australia/Sydney:20191113T213000
DTSTAMP:20260421T190324
CREATED:20191101T115534Z
LAST-MODIFIED:20191101T120529Z
UID:4920-1573671600-1573680600@nsscc.com.au
SUMMARY:NSSCC AGM 2019
DESCRIPTION:Annual General Meeting\n7pm Wednesday 13th November 2019\nRoseville Club\nPacific Hwy Roseville \nDownload the AGM notice here:\n2019_20 Notice of AGM \nDownload the nomination form here:\n2019_20 Nomination form \nNotice of Annual General Meeting\nNorth Shore Sporting Car Club \nMembers of the North Shore Sporting Car Club are hereby notified that the Annual General Meeting of the Club will be held on Wednesday 13th November 2019 commencing at 7:00pm\, at The Roseville Memorial Club\, 64 Pacific Hwy.\, Roseville\, 2071 NSW.\nAgenda\n1. Confirmation of Minutes of Annual General Meeting held Monday 12th November\, 2018.\n2. Apologies (Only if written apologies received)1\n3. Annual report of the Committee by the President.\n4. Treasurer’s Report\n5. Membership Secretary’s report\n6. Motorsport report\n7. Election of the General Committee\, to be elected in the following order:\na) President\nb) Vice President\nc) Treasurer\nd) Secretary\ne) Membership Secretary\nf) General Committee members\n8. Other Business (such as may be transacted at a General Meeting)2 \nBy order of the General Committee.\nJenny Taylor Secretary \nSpecial Notes\n1) Apologies must be received in writing by the Secretary prior to the commencement of the Annual General Meeting. Apologies may be emailed to the Secretary at secretary@nsscc.com.au\n2) Only business listed on this notice of Annual General Meeting may be transacted at the meeting.\n3) Members are invited to propose other business to be discussed at the Annual General Meeting by giving notice in writing of that business to the Secretary by 6th November 2019.\n4) Proxy votes not permitted.
URL:https://nsscc.com.au/event/nsscc-agm-2019/
CATEGORIES:Annual General Meeting
END:VEVENT
END:VCALENDAR